BEGIN:VCALENDAR
VERSION:2.0
PRODID:-//Allaire Eglise - ECPv5.12.3//NONSGML v1.0//EN
CALSCALE:GREGORIAN
METHOD:PUBLISH
X-WR-CALNAME:Allaire Eglise
X-ORIGINAL-URL:https://allaire-eglise.fr
X-WR-CALDESC:évènements pour Allaire Eglise
BEGIN:VTIMEZONE
TZID:UTC
BEGIN:STANDARD
TZOFFSETFROM:+0000
TZOFFSETTO:+0000
TZNAME:UTC
DTSTART:20200101T000000
END:STANDARD
END:VTIMEZONE
BEGIN:VEVENT
DTSTART;VALUE=DATE:20201115
DTEND;VALUE=DATE:20201201
DTSTAMP:20260422T003939
CREATED:20201115T175031Z
LAST-MODIFIED:20201115T175116Z
UID:4928-1605398400-1606780799@allaire-eglise.fr
SUMMARY:Voir ce qui est positif dans ma vie
DESCRIPTION:Cliquez ici pour voir la vidéo\n 
URL:https://allaire-eglise.fr/evenement/voir-ce-qui-est-positif-dans-ma-vie/
CATEGORIES:Evènement accueil
ATTACH;FMTTYPE=image/jpeg:https://allaire-eglise.fr/wp-content/uploads/2020/11/temps-spi.jpg
END:VEVENT
END:VCALENDAR