BEGIN:VCALENDAR
VERSION:2.0
PRODID:-//Allaire Eglise - ECPv5.12.3//NONSGML v1.0//EN
CALSCALE:GREGORIAN
METHOD:PUBLISH
X-WR-CALNAME:Allaire Eglise
X-ORIGINAL-URL:https://allaire-eglise.fr
X-WR-CALDESC:évènements pour Allaire Eglise
BEGIN:VTIMEZONE
TZID:UTC
BEGIN:STANDARD
TZOFFSETFROM:+0000
TZOFFSETTO:+0000
TZNAME:UTC
DTSTART:20220101T000000
END:STANDARD
END:VTIMEZONE
BEGIN:VEVENT
DTSTART;VALUE=DATE:20220528
DTEND;VALUE=DATE:20220530
DTSTAMP:20260421T054110
CREATED:20220511T084800Z
LAST-MODIFIED:20220511T090111Z
UID:5874-1653696000-1653868799@allaire-eglise.fr
SUMMARY:Eglise gréco-catholique ukrainienne: conférence et messe à Vannes
DESCRIPTION:Les 28 et 29 mai deux événements auront lieu à Vannes avec l’église gréco-catholique ukrainienne pour sujet.
URL:https://allaire-eglise.fr/evenement/ukraine-conference-et-messe-a-vannes/
CATEGORIES:Evènement accueil
ATTACH;FMTTYPE=image/jpeg:https://allaire-eglise.fr/wp-content/uploads/2022/05/greco-catho.jpg
END:VEVENT
END:VCALENDAR