BEGIN:VCALENDAR
VERSION:2.0
PRODID:-//Allaire Eglise - ECPv5.12.3//NONSGML v1.0//EN
CALSCALE:GREGORIAN
METHOD:PUBLISH
X-WR-CALNAME:Allaire Eglise
X-ORIGINAL-URL:https://allaire-eglise.fr
X-WR-CALDESC:évènements pour Allaire Eglise
BEGIN:VTIMEZONE
TZID:UTC
BEGIN:STANDARD
TZOFFSETFROM:+0000
TZOFFSETTO:+0000
TZNAME:UTC
DTSTART:20200101T000000
END:STANDARD
END:VTIMEZONE
BEGIN:VEVENT
DTSTART;VALUE=DATE:20200325
DTEND;VALUE=DATE:20200501
DTSTAMP:20260420T123706
CREATED:20200325T111502Z
LAST-MODIFIED:20200405T135920Z
UID:4451-1585094400-1588291199@allaire-eglise.fr
SUMMARY:Prions ensemble
DESCRIPTION:Retrouvons-nous tous par la pensée et la prière en récitant un Notre Père exactement à midi au moment où les cloches de notre église sonnent. \nEn plus des prières quotidiennes que\, tous\, vous ne manquez pas de faire ce Notre Père nous unira à la même seconde.
URL:https://allaire-eglise.fr/evenement/prions-ensemble/
ATTACH;FMTTYPE=image/jpeg:https://allaire-eglise.fr/wp-content/uploads/2020/03/notre-père.jpg
END:VEVENT
END:VCALENDAR