BEGIN:VCALENDAR
VERSION:2.0
PRODID:-//Allaire Eglise - ECPv5.12.3//NONSGML v1.0//EN
CALSCALE:GREGORIAN
METHOD:PUBLISH
X-WR-CALNAME:Allaire Eglise
X-ORIGINAL-URL:https://allaire-eglise.fr
X-WR-CALDESC:évènements pour Allaire Eglise
BEGIN:VTIMEZONE
TZID:UTC
BEGIN:STANDARD
TZOFFSETFROM:+0000
TZOFFSETTO:+0000
TZNAME:UTC
DTSTART:20190101T000000
END:STANDARD
END:VTIMEZONE
BEGIN:VEVENT
DTSTART;VALUE=DATE:20191001
DTEND;VALUE=DATE:20191101
DTSTAMP:20260423T181929
CREATED:20190926T172047Z
LAST-MODIFIED:20191020T155229Z
UID:3920-1569888000-1572566399@allaire-eglise.fr
SUMMARY:Pour connaître les événements en octobre sur le diocèse
DESCRIPTION:Pour accéder aux événements d’octobre: cliquez ici
URL:https://allaire-eglise.fr/evenement/pour-connaitre-les-evenements-en-octobre-sur-le-diocese/
END:VEVENT
END:VCALENDAR