BEGIN:VCALENDAR
VERSION:2.0
PRODID:-//Allaire Eglise - ECPv5.12.3//NONSGML v1.0//EN
CALSCALE:GREGORIAN
METHOD:PUBLISH
X-WR-CALNAME:Allaire Eglise
X-ORIGINAL-URL:https://allaire-eglise.fr
X-WR-CALDESC:évènements pour Allaire Eglise
BEGIN:VTIMEZONE
TZID:UTC
BEGIN:STANDARD
TZOFFSETFROM:+0000
TZOFFSETTO:+0000
TZNAME:UTC
DTSTART:20190101T000000
END:STANDARD
END:VTIMEZONE
BEGIN:VEVENT
DTSTART;VALUE=DATE:20190815
DTEND;VALUE=DATE:20190816
DTSTAMP:20260424T150128
CREATED:20190712T125028Z
LAST-MODIFIED:20190802T163131Z
UID:3775-1565827200-1565913599@allaire-eglise.fr
SUMMARY:Pardon de Notre-Dame-de-Brancheleux
DESCRIPTION:Le jeudi 15 août aura lieu notre pardon traditionnel de Notre-Dame-de-Brancheleux. \nLa messe sera dite à 10h30. \nElle sera suivie de l’apéritif\, et de la vente de gâteaux. \nA 18h00: fricassée. \nDes bénévoles sont recherchés pour le nettoyage du terrain (le vendredi 9 août à 17h00)\, le transport et l’installation du matériel la veille (rendez-vous au presbytère à 14h00). \nLe jour du pardon: des personnes pour la buvette et la vente de gâteaux ainsi que le service de la fricassée le soir. Et pendant la fricassée aura lieu le tirage de la tombola. \nUn appel est lancé au pâtissières et pâtissiers pour faire don de gâteaux (veuillez déposer les gâteaux avant la messe). \n  \nDonnez votre nom au presbytère. \nDes billets de tombola vous seront proposés. \nMerci d’avance pour votre aide et votre participation à cet événement traditionnel local.
URL:https://allaire-eglise.fr/evenement/pardon-de-notre-dame-de-brancheleux/
CATEGORIES:Evènement accueil
ATTACH;FMTTYPE=image/jpeg:https://allaire-eglise.fr/wp-content/uploads/2018/11/allaire-brancheleux.jpg
END:VEVENT
END:VCALENDAR