BEGIN:VCALENDAR
VERSION:2.0
PRODID:-//Allaire Eglise - ECPv5.12.3//NONSGML v1.0//EN
CALSCALE:GREGORIAN
METHOD:PUBLISH
X-WR-CALNAME:Allaire Eglise
X-ORIGINAL-URL:https://allaire-eglise.fr
X-WR-CALDESC:évènements pour Allaire Eglise
BEGIN:VTIMEZONE
TZID:UTC
BEGIN:STANDARD
TZOFFSETFROM:+0000
TZOFFSETTO:+0000
TZNAME:UTC
DTSTART:20190101T000000
END:STANDARD
END:VTIMEZONE
BEGIN:VEVENT
DTSTART;VALUE=DATE:20190803
DTEND;VALUE=DATE:20190812
DTSTAMP:20260424T182151
CREATED:20190712T122435Z
LAST-MODIFIED:20190712T122435Z
UID:3769-1564790400-1565567999@allaire-eglise.fr
SUMMARY:Notre Dame de Boulogne (75ème anniversaire)
DESCRIPTION:Commémoration du 75ème anniversaire du passage de Notre-Dame-de-Boulogne dans le doyenné de La Roche-Bernard. \nMesses\, veillées\, soirées vidéo\, processions… \nLa statue pèlerinera: \n\nà Férel le 3 août\nà Pénestin le 4 août\nà Camoël le 5 août\nà La Roche-Bernard le 6 août\nà Nivillac le 7 août\nà Saint-Dolay le 8 août\nà Théhillac le 9 août\nà Saint-Cry le 10 août\nà Théhillac le 11 août là où la statue avait traversé la Vilaine le 11 août 1944.
URL:https://allaire-eglise.fr/evenement/notre-dame-de-boulogne-75eme-anniversaire/
CATEGORIES:Evènement accueil
ATTACH;FMTTYPE=image/jpeg:https://allaire-eglise.fr/wp-content/uploads/2019/07/ND-de-Boulogne.jpg
END:VEVENT
END:VCALENDAR