BEGIN:VCALENDAR
VERSION:2.0
PRODID:-//Allaire Eglise - ECPv5.12.3//NONSGML v1.0//EN
CALSCALE:GREGORIAN
METHOD:PUBLISH
X-WR-CALNAME:Allaire Eglise
X-ORIGINAL-URL:https://allaire-eglise.fr
X-WR-CALDESC:évènements pour Allaire Eglise
BEGIN:VTIMEZONE
TZID:UTC
BEGIN:STANDARD
TZOFFSETFROM:+0000
TZOFFSETTO:+0000
TZNAME:UTC
DTSTART:20200101T000000
END:STANDARD
END:VTIMEZONE
BEGIN:VEVENT
DTSTART;VALUE=DATE:20201216
DTEND;VALUE=DATE:20201227
DTSTAMP:20260422T134915
CREATED:20201216T164046Z
LAST-MODIFIED:20201216T164046Z
UID:5025-1608076800-1609027199@allaire-eglise.fr
SUMMARY:Messes de Noël
DESCRIPTION:La messe de la veillée de Noël sera célébrée le 24 décembre à 18h30 à Allaire et à Rieux.\nLa messe du jour de Noël sera célébrée le 25 décembre à 10h30 à Béganne et St-Jean-la-Poterie.
URL:https://allaire-eglise.fr/evenement/messes-de-noel/
CATEGORIES:Evènement accueil
ATTACH;FMTTYPE=image/jpeg:https://allaire-eglise.fr/wp-content/uploads/2020/12/noel3.jpg
END:VEVENT
END:VCALENDAR