BEGIN:VCALENDAR
VERSION:2.0
PRODID:-//Allaire Eglise - ECPv5.12.3//NONSGML v1.0//EN
CALSCALE:GREGORIAN
METHOD:PUBLISH
X-WR-CALNAME:Allaire Eglise
X-ORIGINAL-URL:https://allaire-eglise.fr
X-WR-CALDESC:évènements pour Allaire Eglise
BEGIN:VTIMEZONE
TZID:UTC
BEGIN:STANDARD
TZOFFSETFROM:+0000
TZOFFSETTO:+0000
TZNAME:UTC
DTSTART:20200101T000000
END:STANDARD
END:VTIMEZONE
BEGIN:VEVENT
DTSTART;TZID=UTC:20200204T170000
DTEND;TZID=UTC:20200204T190000
DTSTAMP:20260421T034330
CREATED:20200109T152124Z
LAST-MODIFIED:20200122T163851Z
UID:4137-1580835600-1580842800@allaire-eglise.fr
SUMMARY:Lecture suivie de la Bible (groupe A)
DESCRIPTION:Lecture de la Bible en 100 semaines.\nLe groupe A se réunira aux salles paroissiales d’Allaire le mardi 4 février à 17h00.\nTravail de préparation: lire Nombres chapitre 1 à 24.
URL:https://allaire-eglise.fr/evenement/lecture-suivie-de-la-bible-6/
CATEGORIES:Evènement accueil
ATTACH;FMTTYPE=image/jpeg:https://allaire-eglise.fr/wp-content/uploads/2019/10/bible-lecture.jpg
END:VEVENT
END:VCALENDAR