BEGIN:VCALENDAR
VERSION:2.0
PRODID:-//Allaire Eglise - ECPv5.12.3//NONSGML v1.0//EN
CALSCALE:GREGORIAN
METHOD:PUBLISH
X-WR-CALNAME:Allaire Eglise
X-ORIGINAL-URL:https://allaire-eglise.fr
X-WR-CALDESC:évènements pour Allaire Eglise
BEGIN:VTIMEZONE
TZID:UTC
BEGIN:STANDARD
TZOFFSETFROM:+0000
TZOFFSETTO:+0000
TZNAME:UTC
DTSTART:20200101T000000
END:STANDARD
END:VTIMEZONE
BEGIN:VEVENT
DTSTART;TZID=UTC:20200202T110000
DTEND;TZID=UTC:20200202T120000
DTSTAMP:20260421T054101
CREATED:20200119T181619Z
LAST-MODIFIED:20200119T181619Z
UID:4167-1580641200-1580644800@allaire-eglise.fr
SUMMARY:Eveil à la foi
DESCRIPTION:Vous avez des petits enfants de 3 à 7 ans et vous vous relayez à la maison pour les garder pendant la messe?\nN’hésitez plus à venir en famille ce dimanche 2 février 2020\, un éveil à la foi sera organisé pour eux au cours de la messe de 11h00 à Allaire.
URL:https://allaire-eglise.fr/evenement/eveil-a-la-foi/
CATEGORIES:Evènement accueil
ATTACH;FMTTYPE=image/jpeg:https://allaire-eglise.fr/wp-content/uploads/2019/12/messe-de-la-joie-3.jpg
END:VEVENT
END:VCALENDAR