BEGIN:VCALENDAR
VERSION:2.0
PRODID:-//Allaire Eglise - ECPv5.12.3//NONSGML v1.0//EN
CALSCALE:GREGORIAN
METHOD:PUBLISH
X-WR-CALNAME:Allaire Eglise
X-ORIGINAL-URL:https://allaire-eglise.fr
X-WR-CALDESC:évènements pour Allaire Eglise
BEGIN:VTIMEZONE
TZID:UTC
BEGIN:STANDARD
TZOFFSETFROM:+0000
TZOFFSETTO:+0000
TZNAME:UTC
DTSTART:20220101T000000
END:STANDARD
END:VTIMEZONE
BEGIN:VEVENT
DTSTART;VALUE=DATE:20220308
DTEND;VALUE=DATE:20220323
DTSTAMP:20260421T093148
CREATED:20220308T174721Z
LAST-MODIFIED:20220308T175330Z
UID:5778-1646697600-1647993599@allaire-eglise.fr
SUMMARY:Conférences les 19 (St Perreux) et 22 mars (Redon)
DESCRIPTION:       
URL:https://allaire-eglise.fr/evenement/conferences-des-18-et-22-mars/
CATEGORIES:Evènement accueil
ATTACH;FMTTYPE=image/jpeg:https://allaire-eglise.fr/wp-content/uploads/2022/03/conference.jpg
END:VEVENT
END:VCALENDAR