BEGIN:VCALENDAR
VERSION:2.0
PRODID:-//Allaire Eglise - ECPv5.12.3//NONSGML v1.0//EN
CALSCALE:GREGORIAN
METHOD:PUBLISH
X-WR-CALNAME:Allaire Eglise
X-ORIGINAL-URL:https://allaire-eglise.fr
X-WR-CALDESC:évènements pour Allaire Eglise
BEGIN:VTIMEZONE
TZID:UTC
BEGIN:STANDARD
TZOFFSETFROM:+0000
TZOFFSETTO:+0000
TZNAME:UTC
DTSTART:20210101T000000
END:STANDARD
END:VTIMEZONE
BEGIN:VEVENT
DTSTART;VALUE=DATE:20211028
DTEND;VALUE=DATE:20211122
DTSTAMP:20260421T165348
CREATED:20211028T080057Z
LAST-MODIFIED:20211028T080549Z
UID:5566-1635379200-1637539199@allaire-eglise.fr
SUMMARY:Concert PRAISE à Pontivy
DESCRIPTION:Tous à Pontivy le 20 novembre prochain pour le concert PRAISE !\nLes détails ICI
URL:https://allaire-eglise.fr/evenement/concert-praise-a-pontivy/
CATEGORIES:Evènement accueil
ATTACH;FMTTYPE=image/jpeg:https://allaire-eglise.fr/wp-content/uploads/2021/10/praise.jpg
END:VEVENT
END:VCALENDAR