BEGIN:VCALENDAR
VERSION:2.0
PRODID:-//Allaire Eglise - ECPv5.12.3//NONSGML v1.0//EN
CALSCALE:GREGORIAN
METHOD:PUBLISH
X-WR-CALNAME:Allaire Eglise
X-ORIGINAL-URL:https://allaire-eglise.fr
X-WR-CALDESC:évènements pour Allaire Eglise
BEGIN:VTIMEZONE
TZID:UTC
BEGIN:STANDARD
TZOFFSETFROM:+0000
TZOFFSETTO:+0000
TZNAME:UTC
DTSTART:20220101T000000
END:STANDARD
END:VTIMEZONE
BEGIN:VEVENT
DTSTART;VALUE=DATE:20220508
DTEND;VALUE=DATE:20220601
DTSTAMP:20260423T121414
CREATED:20220508T163813Z
LAST-MODIFIED:20220515T101631Z
UID:5870-1651968000-1654041599@allaire-eglise.fr
SUMMARY:Nous avons un nouveau saint !
DESCRIPTION:Depuis ce matin\, nous avons un nouveau saint en la personne de Charles de Foucauld ! \n \n  \nDans notre bulletin interparoissial n°627 de Mai-Juin 2022\, vous avez pu lire une partie d’un article consacré au père Charles de Foucauld à l’occasion de sa canonisation qui aura lieu le 15 mai 2022. \nVous trouverez ci-dessous un lien qui vous permettra d’accéder à l’article dans son intégralité : \nCliquez   ICI  \n 
URL:https://allaire-eglise.fr/evenement/canonisation-du-pere-charles-de-foucauld-le-15-mai/
CATEGORIES:Evènement accueil
ATTACH;FMTTYPE=image/jpeg:https://allaire-eglise.fr/wp-content/uploads/2022/05/CdF.jpg
END:VEVENT
END:VCALENDAR