BEGIN:VCALENDAR
VERSION:2.0
PRODID:-//Allaire Eglise - ECPv5.12.3//NONSGML v1.0//EN
CALSCALE:GREGORIAN
METHOD:PUBLISH
X-WR-CALNAME:Allaire Eglise
X-ORIGINAL-URL:https://allaire-eglise.fr
X-WR-CALDESC:évènements pour Allaire Eglise
BEGIN:VTIMEZONE
TZID:UTC
BEGIN:STANDARD
TZOFFSETFROM:+0000
TZOFFSETTO:+0000
TZNAME:UTC
DTSTART:20200101T000000
END:STANDARD
END:VTIMEZONE
BEGIN:VEVENT
DTSTART;VALUE=DATE:20201231
DTEND;VALUE=DATE:20210118
DTSTAMP:20260422T101528
CREATED:20201231T160447Z
LAST-MODIFIED:20201231T160846Z
UID:5056-1609372800-1610927999@allaire-eglise.fr
SUMMARY:Bonne et heureuse année 2021
DESCRIPTION:Voici un message de bonne et heureuse année 2021 de la part des paroisses du secteur d’Allaire\, pour le voir cliquez    ICI
URL:https://allaire-eglise.fr/evenement/bonne-et-heureuse-annee-2021/
CATEGORIES:Evènement accueil
ATTACH;FMTTYPE=image/jpeg:https://allaire-eglise.fr/wp-content/uploads/2020/12/2021-2.jpg
END:VEVENT
END:VCALENDAR