BEGIN:VCALENDAR
VERSION:2.0
PRODID:-//Allaire Eglise - ECPv5.12.3//NONSGML v1.0//EN
CALSCALE:GREGORIAN
METHOD:PUBLISH
X-WR-CALNAME:Allaire Eglise
X-ORIGINAL-URL:https://allaire-eglise.fr
X-WR-CALDESC:évènements pour Allaire Eglise
BEGIN:VTIMEZONE
TZID:UTC
BEGIN:STANDARD
TZOFFSETFROM:+0000
TZOFFSETTO:+0000
TZNAME:UTC
DTSTART:20210101T000000
END:STANDARD
END:VTIMEZONE
BEGIN:VEVENT
DTSTART;VALUE=DATE:20211007
DTEND;VALUE=DATE:20211101
DTSTAMP:20260421T185236
CREATED:20211007T073010Z
LAST-MODIFIED:20211028T073919Z
UID:5507-1633564800-1635724799@allaire-eglise.fr
SUMMARY:Béganne messe de rentrée
DESCRIPTION:Après la rentrée des cartables\, les enfants de Béganne se sont distingués en créant ce joli tableau pour la messe du 5 octobre. \nToutes nos félicitations !
URL:https://allaire-eglise.fr/evenement/beganne-messe-de-rentree/
ATTACH;FMTTYPE=image/jpeg:https://allaire-eglise.fr/wp-content/uploads/2021/10/image00000011.jpg
END:VEVENT
END:VCALENDAR