BEGIN:VCALENDAR
VERSION:2.0
PRODID:-//Allaire Eglise - ECPv5.12.3//NONSGML v1.0//EN
CALSCALE:GREGORIAN
METHOD:PUBLISH
X-WR-CALNAME:Allaire Eglise
X-ORIGINAL-URL:https://allaire-eglise.fr
X-WR-CALDESC:évènements pour Allaire Eglise
BEGIN:VTIMEZONE
TZID:UTC
BEGIN:STANDARD
TZOFFSETFROM:+0000
TZOFFSETTO:+0000
TZNAME:UTC
DTSTART:20210101T000000
END:STANDARD
END:VTIMEZONE
BEGIN:VEVENT
DTSTART;VALUE=DATE:20211028
DTEND;VALUE=DATE:20220101
DTSTAMP:20260421T145729
CREATED:20211028T074852Z
LAST-MODIFIED:20211123T174357Z
UID:5558-1635379200-1640995199@allaire-eglise.fr
SUMMARY:Aider les femmes en détresse
DESCRIPTION:La Tilma: hébergement et accompagnement des femmes enceintes en situation de solitude et de précarité à Vannes.\nPour en savoir plus et les aider\, cliquez  ICI
URL:https://allaire-eglise.fr/evenement/aider-les-femmes-en-detresse/
ATTACH;FMTTYPE=image/jpeg:https://allaire-eglise.fr/wp-content/uploads/2021/10/Tilma.jpg
END:VEVENT
END:VCALENDAR